BEGIN:VCALENDAR
VERSION:2.0
PRODID:-//wp-events-plugin.com//7.2//EN
TZID:Europe/Amsterdam
X-WR-TIMEZONE:Europe/Amsterdam
BEGIN:VEVENT
UID:16@muziekcollectief23.nl
DTSTART;TZID=Europe/Amsterdam:20240922T110000
DTEND;TZID=Europe/Amsterdam:20240922T130000
DTSTAMP:20240911T072016Z
URL:https://muziekcollectief23.nl/events/beekdaelen-musiceert-lunchconcert
 -22-september-bij-schinvelder-hoeve/
SUMMARY:Beekdaelen Musiceert: Lunchconcert - 22 september bij Schinvelder H
 oeve
DESCRIPTION:Ter ere van het 5-jarige bestaan van de gemeente Beekdaelen\, l
 evert Muziekcollectief 23 haar muzikale bijdrage aan ‘Beekdaelen musicee
 rt’.\nZondag 22 september 2024 kunt u genieten van de feestelijke klanke
 n van de drumband en het orkest van Muziekcollectief 23 tijdens het lunchc
 oncert met daarna een heerlijke lunch van de Schinvelder Hoeve op deze pra
 chtige locatie aan de Brunssummerstraat in Schinveld.\nHet concert wordt g
 eopend om 11:00 uur door de drumband o.l.v. Eric Crauwels\, waarna het voo
 rtgezet zal worden door het orkest o.l.v. Marc Doomen. Rond 12:30 uur is d
 e gezamenlijke afsluiting door de drumband en het orkest.\nNa afloop van h
 et concert bent u van harte welkom om aan te sluiten bij een heerlijke lun
 ch of een gezellige borrel.\n\nWilt u komen luisteren naar het concert? De
  entree is gratis\, we verwelkomen u graag bij de Schinvelder Hoeve.\nWilt
  u ook deelnemen aan de heerlijke lunch? Meldt u zich dan vóór 17 septem
 ber aan via secretaris@muziekcollectief23.nl of via het telefoonnummer 06-
 27448360.\nDe kosten voor de lunch bedragen €19\,72 voor gasten en €10
 \,- voor leden van Muziekcollectief 23.\nAls u niet wenst deel te nemen aa
 n de lunch\, dan heeft u de mogelijkheid om gezellig een drankje te nuttig
 en bij de Schinvelder Hoeve en na te praten met andere gasten en muzikante
 n.\n\nDatum: zondag 22 september 2024\n\nAanvang concert: 11:00 uur\n\nEin
 de concert: 12:30 uur\n\nEntree concert: gratis\n\nAanvang lunch: 13:00 uu
 r\n\nKosten lunch: €19\,72 voor gasten\; €10\,- voor leden Muziekcolle
 ctief 23
ATTACH;FMTTYPE=image/jpeg:https://muziekcollectief23.nl/wp-content/uploads
 /2024/09/Lunchconcert-2024.jpg
LOCATION:Schinvelder Hoeve\, Brunssummerstraat 65\, Schinveld\, Limburg\, N
 ederland
X-APPLE-STRUCTURED-LOCATION;VALUE=URI;X-ADDRESS=Brunssummerstraat 65\, Schi
 nveld\, Limburg\, Nederland;X-APPLE-RADIUS=100;X-TITLE=Schinvelder Hoeve:g
 eo:0,0
END:VEVENT
BEGIN:VTIMEZONE
TZID:Europe/Amsterdam
X-LIC-LOCATION:Europe/Amsterdam
BEGIN:DAYLIGHT
DTSTART:20240331T030000
TZOFFSETFROM:+0100
TZOFFSETTO:+0200
TZNAME:CEST
END:DAYLIGHT
END:VTIMEZONE
END:VCALENDAR