BEGIN:VCALENDAR
VERSION:2.0
PRODID:-//wp-events-plugin.com//7.2//EN
TZID:Europe/Amsterdam
X-WR-TIMEZONE:Europe/Amsterdam
BEGIN:VEVENT
UID:29@muziekcollectief23.nl
DTSTART;TZID=Europe/Amsterdam:20260419T100000
DTEND;TZID=Europe/Amsterdam:20260419T113000
DTSTAMP:20260408T125412Z
URL:https://muziekcollectief23.nl/events/opluisteren-communiemis/
SUMMARY:Opluisteren communiemis
DESCRIPTION:Op zondag 19 april om 10:00 uur zal Muziekcollectief 23 de comm
 uniemis opluisteren in Schinveld.
ATTACH;FMTTYPE=image/jpeg:https://muziekcollectief23.nl/wp-content/uploads
 /2025/05/Eerste-communie.jpg
END:VEVENT
BEGIN:VTIMEZONE
TZID:Europe/Amsterdam
X-LIC-LOCATION:Europe/Amsterdam
BEGIN:DAYLIGHT
DTSTART:20260329T030000
TZOFFSETFROM:+0100
TZOFFSETTO:+0200
TZNAME:CEST
END:DAYLIGHT
END:VTIMEZONE
END:VCALENDAR